BEGIN:VCALENDAR
VERSION:2.0
PRODID:-//Avondale United Methodist Church - ECPv6.15.20//NONSGML v1.0//EN
CALSCALE:GREGORIAN
METHOD:PUBLISH
X-ORIGINAL-URL:https://avondalemethodist.org
X-WR-CALDESC:Events for Avondale United Methodist Church
REFRESH-INTERVAL;VALUE=DURATION:PT1H
X-Robots-Tag:noindex
X-PUBLISHED-TTL:PT1H
BEGIN:VTIMEZONE
TZID:America/Chicago
BEGIN:DAYLIGHT
TZOFFSETFROM:-0600
TZOFFSETTO:-0500
TZNAME:CDT
DTSTART:20240310T080000
END:DAYLIGHT
BEGIN:STANDARD
TZOFFSETFROM:-0500
TZOFFSETTO:-0600
TZNAME:CST
DTSTART:20241103T070000
END:STANDARD
BEGIN:DAYLIGHT
TZOFFSETFROM:-0600
TZOFFSETTO:-0500
TZNAME:CDT
DTSTART:20250309T080000
END:DAYLIGHT
BEGIN:STANDARD
TZOFFSETFROM:-0500
TZOFFSETTO:-0600
TZNAME:CST
DTSTART:20251102T070000
END:STANDARD
BEGIN:DAYLIGHT
TZOFFSETFROM:-0600
TZOFFSETTO:-0500
TZNAME:CDT
DTSTART:20260308T080000
END:DAYLIGHT
BEGIN:STANDARD
TZOFFSETFROM:-0500
TZOFFSETTO:-0600
TZNAME:CST
DTSTART:20261101T070000
END:STANDARD
END:VTIMEZONE
BEGIN:VEVENT
DTSTART;TZID=America/Chicago:20250420T071500
DTEND;TZID=America/Chicago:20250420T090000
DTSTAMP:20260419T183850
CREATED:20250417T130230Z
LAST-MODIFIED:20250417T130230Z
UID:11001789-1745133300-1745139600@avondalemethodist.org
SUMMARY:Continental Breakfast
DESCRIPTION:Continental Breakfast following Easter Sunrise Service
URL:https://avondalemethodist.org/event/continental-breakfast/
LOCATION:Wesley Hall\, 3101 NE Winn Rd\, Kansas City\, MO\, 64117\, United States
ORGANIZER;CN="Bonnie House":MAILTO:32boo.house@gmail.com
END:VEVENT
BEGIN:VEVENT
DTSTART;TZID=America/Chicago:20250420T090000
DTEND;TZID=America/Chicago:20250420T100000
DTSTAMP:20260419T183850
CREATED:20250302T004114Z
LAST-MODIFIED:20250302T004114Z
UID:10000013-1745139600-1745143200@avondalemethodist.org
SUMMARY:Small Group Classes
DESCRIPTION:Small Group Classes
URL:https://avondalemethodist.org/event/small-group-classes/2025-04-20/
LOCATION:Sanctuary
END:VEVENT
BEGIN:VEVENT
DTSTART;TZID=America/Chicago:20250420T101000
DTEND;TZID=America/Chicago:20250420T111000
DTSTAMP:20260419T183850
CREATED:20250302T004428Z
LAST-MODIFIED:20250302T004428Z
UID:10000274-1745143800-1745147400@avondalemethodist.org
SUMMARY:Worship
DESCRIPTION:Worship
URL:https://avondalemethodist.org/event/worship/2025-04-20/
LOCATION:Sanctuary
END:VEVENT
BEGIN:VEVENT
DTSTART;VALUE=DATE:20250421
DTEND;VALUE=DATE:20250422
DTSTAMP:20260419T183850
CREATED:20250302T005108Z
LAST-MODIFIED:20250302T005108Z
UID:10000535-1745193600-1745279999@avondalemethodist.org
SUMMARY:Church Office Closed
DESCRIPTION:Church Office Closed
URL:https://avondalemethodist.org/event/church-office-closed/2025-04-21/
END:VEVENT
BEGIN:VEVENT
DTSTART;TZID=America/Chicago:20250422T090000
DTEND;TZID=America/Chicago:20250422T120000
DTSTAMP:20260419T183850
CREATED:20250302T005517Z
LAST-MODIFIED:20250302T005517Z
UID:10001057-1745312400-1745323200@avondalemethodist.org
SUMMARY:Food Pantry Preparation
DESCRIPTION:Food Pantry Preparation
URL:https://avondalemethodist.org/event/food-pantry-preparation/2025-04-22/
LOCATION:Food Pantry Rooms
END:VEVENT
BEGIN:VEVENT
DTSTART;TZID=America/Chicago:20250422T183000
DTEND;TZID=America/Chicago:20250422T200000
DTSTAMP:20260419T183850
CREATED:20250418T004135Z
LAST-MODIFIED:20250418T004135Z
UID:11001791-1745346600-1745352000@avondalemethodist.org
SUMMARY:Girl Scout 1070 Troop Meeting
DESCRIPTION:GS troop 1070 meeting
URL:https://avondalemethodist.org/event/girl-scout-1070-troop-meeting/
LOCATION:Wesley Hall\, 3101 NE Winn Rd\, Kansas City\, MO\, 64117\, United States
ORGANIZER;CN="Kevin Flinn":MAILTO:kcflinn11@gmail.com
END:VEVENT
BEGIN:VEVENT
DTSTART;TZID=America/Chicago:20250423T090000
DTEND;TZID=America/Chicago:20250423T230000
DTSTAMP:20260419T183850
CREATED:20250302T005637Z
LAST-MODIFIED:20250302T005637Z
UID:10001318-1745398800-1745449200@avondalemethodist.org
SUMMARY:Food Pantry Distribution
DESCRIPTION:Food Pantry Distribution
URL:https://avondalemethodist.org/event/food-pantry-distribution/2025-04-23/
LOCATION:Food Pantry Rooms
END:VEVENT
BEGIN:VEVENT
DTSTART;VALUE=DATE:20250425
DTEND;VALUE=DATE:20250426
DTSTAMP:20260419T183850
CREATED:20250302T005234Z
LAST-MODIFIED:20250302T005234Z
UID:10000796-1745539200-1745625599@avondalemethodist.org
SUMMARY:Church Office Closed
DESCRIPTION:Church Office Closed
URL:https://avondalemethodist.org/event/church-office-closed-2/2025-04-25/
END:VEVENT
END:VCALENDAR