BEGIN:VCALENDAR
VERSION:2.0
PRODID:-//Avondale United Methodist Church - ECPv6.15.20//NONSGML v1.0//EN
CALSCALE:GREGORIAN
METHOD:PUBLISH
X-WR-CALNAME:Avondale United Methodist Church
X-ORIGINAL-URL:https://avondalemethodist.org
X-WR-CALDESC:Events for Avondale United Methodist Church
REFRESH-INTERVAL;VALUE=DURATION:PT1H
X-Robots-Tag:noindex
X-PUBLISHED-TTL:PT1H
BEGIN:VTIMEZONE
TZID:America/Chicago
BEGIN:DAYLIGHT
TZOFFSETFROM:-0600
TZOFFSETTO:-0500
TZNAME:CDT
DTSTART:20250309T080000
END:DAYLIGHT
BEGIN:STANDARD
TZOFFSETFROM:-0500
TZOFFSETTO:-0600
TZNAME:CST
DTSTART:20251102T070000
END:STANDARD
BEGIN:DAYLIGHT
TZOFFSETFROM:-0600
TZOFFSETTO:-0500
TZNAME:CDT
DTSTART:20260308T080000
END:DAYLIGHT
BEGIN:STANDARD
TZOFFSETFROM:-0500
TZOFFSETTO:-0600
TZNAME:CST
DTSTART:20261101T070000
END:STANDARD
BEGIN:DAYLIGHT
TZOFFSETFROM:-0600
TZOFFSETTO:-0500
TZNAME:CDT
DTSTART:20270314T080000
END:DAYLIGHT
BEGIN:STANDARD
TZOFFSETFROM:-0500
TZOFFSETTO:-0600
TZNAME:CST
DTSTART:20271107T070000
END:STANDARD
END:VTIMEZONE
BEGIN:VEVENT
DTSTART;TZID=America/Chicago:20260419T090000
DTEND;TZID=America/Chicago:20260419T100000
DTSTAMP:20260419T122323
CREATED:20250302T004114Z
LAST-MODIFIED:20250302T004114Z
UID:10000065-1776589200-1776592800@avondalemethodist.org
SUMMARY:Small Group Classes
DESCRIPTION:Small Group Classes
URL:https://avondalemethodist.org/event/small-group-classes/2026-04-19/
LOCATION:Sanctuary
END:VEVENT
BEGIN:VEVENT
DTSTART;TZID=America/Chicago:20260419T101000
DTEND;TZID=America/Chicago:20260419T111000
DTSTAMP:20260419T122323
CREATED:20250302T004428Z
LAST-MODIFIED:20250302T004428Z
UID:10000326-1776593400-1776597000@avondalemethodist.org
SUMMARY:Worship
DESCRIPTION:Worship
URL:https://avondalemethodist.org/event/worship/2026-04-19/
LOCATION:Sanctuary
END:VEVENT
BEGIN:VEVENT
DTSTART;VALUE=DATE:20260420
DTEND;VALUE=DATE:20260421
DTSTAMP:20260419T122323
CREATED:20250302T005108Z
LAST-MODIFIED:20250302T005108Z
UID:10000587-1776643200-1776729599@avondalemethodist.org
SUMMARY:Church Office Closed
DESCRIPTION:Church Office Closed
URL:https://avondalemethodist.org/event/church-office-closed/2026-04-20/
END:VEVENT
BEGIN:VEVENT
DTSTART;TZID=America/Chicago:20260421T090000
DTEND;TZID=America/Chicago:20260421T120000
DTSTAMP:20260419T122323
CREATED:20250302T005517Z
LAST-MODIFIED:20250302T005517Z
UID:10001109-1776762000-1776772800@avondalemethodist.org
SUMMARY:Food Pantry Preparation
DESCRIPTION:Food Pantry Preparation
URL:https://avondalemethodist.org/event/food-pantry-preparation/2026-04-21/
LOCATION:Food Pantry Rooms
END:VEVENT
BEGIN:VEVENT
DTSTART;TZID=America/Chicago:20260422T090000
DTEND;TZID=America/Chicago:20260422T230000
DTSTAMP:20260419T122323
CREATED:20250302T005637Z
LAST-MODIFIED:20250302T005637Z
UID:10001370-1776848400-1776898800@avondalemethodist.org
SUMMARY:Food Pantry Distribution
DESCRIPTION:Food Pantry Distribution
URL:https://avondalemethodist.org/event/food-pantry-distribution/2026-04-22/
LOCATION:Food Pantry Rooms
END:VEVENT
BEGIN:VEVENT
DTSTART;VALUE=DATE:20260424
DTEND;VALUE=DATE:20260425
DTSTAMP:20260419T122323
CREATED:20250302T005234Z
LAST-MODIFIED:20250302T005234Z
UID:10000848-1776988800-1777075199@avondalemethodist.org
SUMMARY:Church Office Closed
DESCRIPTION:Church Office Closed
URL:https://avondalemethodist.org/event/church-office-closed-2/2026-04-24/
END:VEVENT
BEGIN:VEVENT
DTSTART;TZID=America/Chicago:20260424T170000
DTEND;TZID=America/Chicago:20260425T090000
DTSTAMP:20260419T122323
CREATED:20260224T215347Z
LAST-MODIFIED:20260225T152740Z
UID:11001897-1777050000-1777107600@avondalemethodist.org
SUMMARY:Girl Scout Daisy & Brownie Lock-in
DESCRIPTION:Troop 5833 (Kathie Thomas\, Abby Goodale\, & Mary Detrick) of Service Unit 607 would like to host an overnight lock-in at Avondale UMC. We’re hoping to have 5 rooms available for activities
URL:https://avondalemethodist.org/event/girl-scout-daisy-brownie-lock-in/
LOCATION:Wesley Hall\, 3101 NE Winn Rd\, Kansas City\, MO\, 64117\, United States
ORGANIZER;CN="Kathie Thomas%2C Girl Scouts":MAILTO:kathleen.n.thomas@gmail.com
END:VEVENT
END:VCALENDAR