BEGIN:VCALENDAR
VERSION:2.0
PRODID:-//Avondale United Methodist Church - ECPv6.15.20//NONSGML v1.0//EN
CALSCALE:GREGORIAN
METHOD:PUBLISH
X-WR-CALNAME:Avondale United Methodist Church
X-ORIGINAL-URL:https://avondalemethodist.org
X-WR-CALDESC:Events for Avondale United Methodist Church
REFRESH-INTERVAL;VALUE=DURATION:PT1H
X-Robots-Tag:noindex
X-PUBLISHED-TTL:PT1H
BEGIN:VTIMEZONE
TZID:America/Chicago
BEGIN:DAYLIGHT
TZOFFSETFROM:-0600
TZOFFSETTO:-0500
TZNAME:CDT
DTSTART:20240310T080000
END:DAYLIGHT
BEGIN:STANDARD
TZOFFSETFROM:-0500
TZOFFSETTO:-0600
TZNAME:CST
DTSTART:20241103T070000
END:STANDARD
BEGIN:DAYLIGHT
TZOFFSETFROM:-0600
TZOFFSETTO:-0500
TZNAME:CDT
DTSTART:20250309T080000
END:DAYLIGHT
BEGIN:STANDARD
TZOFFSETFROM:-0500
TZOFFSETTO:-0600
TZNAME:CST
DTSTART:20251102T070000
END:STANDARD
BEGIN:DAYLIGHT
TZOFFSETFROM:-0600
TZOFFSETTO:-0500
TZNAME:CDT
DTSTART:20260308T080000
END:DAYLIGHT
BEGIN:STANDARD
TZOFFSETFROM:-0500
TZOFFSETTO:-0600
TZNAME:CST
DTSTART:20261101T070000
END:STANDARD
END:VTIMEZONE
BEGIN:VEVENT
DTSTART;TZID=America/Chicago:20251112T090000
DTEND;TZID=America/Chicago:20251112T230000
DTSTAMP:20260419T222835
CREATED:20250302T005637Z
LAST-MODIFIED:20250302T005637Z
UID:10001347-1762938000-1762988400@avondalemethodist.org
SUMMARY:Food Pantry Distribution
DESCRIPTION:Food Pantry Distribution
URL:https://avondalemethodist.org/event/food-pantry-distribution/2025-11-12/
LOCATION:Food Pantry Rooms
END:VEVENT
BEGIN:VEVENT
DTSTART;TZID=America/Chicago:20251111T090000
DTEND;TZID=America/Chicago:20251111T120000
DTSTAMP:20260419T222835
CREATED:20250302T005517Z
LAST-MODIFIED:20250302T005517Z
UID:10001086-1762851600-1762862400@avondalemethodist.org
SUMMARY:Food Pantry Preparation
DESCRIPTION:Food Pantry Preparation
URL:https://avondalemethodist.org/event/food-pantry-preparation/2025-11-11/
LOCATION:Food Pantry Rooms
END:VEVENT
BEGIN:VEVENT
DTSTART;TZID=America/Chicago:20251105T090000
DTEND;TZID=America/Chicago:20251105T230000
DTSTAMP:20260419T222835
CREATED:20250302T005637Z
LAST-MODIFIED:20250302T005637Z
UID:10001346-1762333200-1762383600@avondalemethodist.org
SUMMARY:Food Pantry Distribution
DESCRIPTION:Food Pantry Distribution
URL:https://avondalemethodist.org/event/food-pantry-distribution/2025-11-05/
LOCATION:Food Pantry Rooms
END:VEVENT
BEGIN:VEVENT
DTSTART;TZID=America/Chicago:20251104T090000
DTEND;TZID=America/Chicago:20251104T120000
DTSTAMP:20260419T222835
CREATED:20250302T005517Z
LAST-MODIFIED:20250302T005517Z
UID:10001085-1762246800-1762257600@avondalemethodist.org
SUMMARY:Food Pantry Preparation
DESCRIPTION:Food Pantry Preparation
URL:https://avondalemethodist.org/event/food-pantry-preparation/2025-11-04/
LOCATION:Food Pantry Rooms
END:VEVENT
BEGIN:VEVENT
DTSTART;TZID=America/Chicago:20251101T090000
DTEND;TZID=America/Chicago:20251101T230000
DTSTAMP:20260419T222835
CREATED:20250302T005808Z
LAST-MODIFIED:20250302T005808Z
UID:10001580-1761987600-1762038000@avondalemethodist.org
SUMMARY:Food Pantry Distribution - First Saturday
DESCRIPTION:Food Pantry Distribution – First Saturday
URL:https://avondalemethodist.org/event/food-pantry-distribution-first-saturday/2025-11-01/
LOCATION:Food Pantry Rooms
END:VEVENT
BEGIN:VEVENT
DTSTART;TZID=America/Chicago:20251029T090000
DTEND;TZID=America/Chicago:20251029T230000
DTSTAMP:20260419T222835
CREATED:20250302T005637Z
LAST-MODIFIED:20250302T005637Z
UID:10001345-1761728400-1761778800@avondalemethodist.org
SUMMARY:Food Pantry Distribution
DESCRIPTION:Food Pantry Distribution
URL:https://avondalemethodist.org/event/food-pantry-distribution/2025-10-29/
LOCATION:Food Pantry Rooms
END:VEVENT
BEGIN:VEVENT
DTSTART;TZID=America/Chicago:20251028T090000
DTEND;TZID=America/Chicago:20251028T120000
DTSTAMP:20260419T222835
CREATED:20250302T005517Z
LAST-MODIFIED:20250302T005517Z
UID:10001084-1761642000-1761652800@avondalemethodist.org
SUMMARY:Food Pantry Preparation
DESCRIPTION:Food Pantry Preparation
URL:https://avondalemethodist.org/event/food-pantry-preparation/2025-10-28/
LOCATION:Food Pantry Rooms
END:VEVENT
BEGIN:VEVENT
DTSTART;TZID=America/Chicago:20251022T090000
DTEND;TZID=America/Chicago:20251022T230000
DTSTAMP:20260419T222835
CREATED:20250302T005637Z
LAST-MODIFIED:20250302T005637Z
UID:10001344-1761123600-1761174000@avondalemethodist.org
SUMMARY:Food Pantry Distribution
DESCRIPTION:Food Pantry Distribution
URL:https://avondalemethodist.org/event/food-pantry-distribution/2025-10-22/
LOCATION:Food Pantry Rooms
END:VEVENT
BEGIN:VEVENT
DTSTART;TZID=America/Chicago:20251021T090000
DTEND;TZID=America/Chicago:20251021T120000
DTSTAMP:20260419T222835
CREATED:20250302T005517Z
LAST-MODIFIED:20250302T005517Z
UID:10001083-1761037200-1761048000@avondalemethodist.org
SUMMARY:Food Pantry Preparation
DESCRIPTION:Food Pantry Preparation
URL:https://avondalemethodist.org/event/food-pantry-preparation/2025-10-21/
LOCATION:Food Pantry Rooms
END:VEVENT
BEGIN:VEVENT
DTSTART;TZID=America/Chicago:20251015T090000
DTEND;TZID=America/Chicago:20251015T230000
DTSTAMP:20260419T222835
CREATED:20250302T005637Z
LAST-MODIFIED:20250302T005637Z
UID:10001343-1760518800-1760569200@avondalemethodist.org
SUMMARY:Food Pantry Distribution
DESCRIPTION:Food Pantry Distribution
URL:https://avondalemethodist.org/event/food-pantry-distribution/2025-10-15/
LOCATION:Food Pantry Rooms
END:VEVENT
BEGIN:VEVENT
DTSTART;TZID=America/Chicago:20251014T090000
DTEND;TZID=America/Chicago:20251014T120000
DTSTAMP:20260419T222835
CREATED:20250302T005517Z
LAST-MODIFIED:20250302T005517Z
UID:10001082-1760432400-1760443200@avondalemethodist.org
SUMMARY:Food Pantry Preparation
DESCRIPTION:Food Pantry Preparation
URL:https://avondalemethodist.org/event/food-pantry-preparation/2025-10-14/
LOCATION:Food Pantry Rooms
END:VEVENT
BEGIN:VEVENT
DTSTART;TZID=America/Chicago:20251008T090000
DTEND;TZID=America/Chicago:20251008T230000
DTSTAMP:20260419T222835
CREATED:20250302T005637Z
LAST-MODIFIED:20250302T005637Z
UID:10001342-1759914000-1759964400@avondalemethodist.org
SUMMARY:Food Pantry Distribution
DESCRIPTION:Food Pantry Distribution
URL:https://avondalemethodist.org/event/food-pantry-distribution/2025-10-08/
LOCATION:Food Pantry Rooms
END:VEVENT
BEGIN:VEVENT
DTSTART;TZID=America/Chicago:20251007T090000
DTEND;TZID=America/Chicago:20251007T120000
DTSTAMP:20260419T222835
CREATED:20250302T005517Z
LAST-MODIFIED:20250302T005517Z
UID:10001081-1759827600-1759838400@avondalemethodist.org
SUMMARY:Food Pantry Preparation
DESCRIPTION:Food Pantry Preparation
URL:https://avondalemethodist.org/event/food-pantry-preparation/2025-10-07/
LOCATION:Food Pantry Rooms
END:VEVENT
BEGIN:VEVENT
DTSTART;TZID=America/Chicago:20251004T090000
DTEND;TZID=America/Chicago:20251004T230000
DTSTAMP:20260419T222835
CREATED:20250302T005808Z
LAST-MODIFIED:20250302T005808Z
UID:10001579-1759568400-1759618800@avondalemethodist.org
SUMMARY:Food Pantry Distribution - First Saturday
DESCRIPTION:Food Pantry Distribution – First Saturday
URL:https://avondalemethodist.org/event/food-pantry-distribution-first-saturday/2025-10-04/
LOCATION:Food Pantry Rooms
END:VEVENT
BEGIN:VEVENT
DTSTART;TZID=America/Chicago:20251001T090000
DTEND;TZID=America/Chicago:20251001T230000
DTSTAMP:20260419T222835
CREATED:20250302T005637Z
LAST-MODIFIED:20250302T005637Z
UID:10001341-1759309200-1759359600@avondalemethodist.org
SUMMARY:Food Pantry Distribution
DESCRIPTION:Food Pantry Distribution
URL:https://avondalemethodist.org/event/food-pantry-distribution/2025-10-01/
LOCATION:Food Pantry Rooms
END:VEVENT
BEGIN:VEVENT
DTSTART;TZID=America/Chicago:20250930T090000
DTEND;TZID=America/Chicago:20250930T120000
DTSTAMP:20260419T222835
CREATED:20250302T005517Z
LAST-MODIFIED:20250302T005517Z
UID:10001080-1759222800-1759233600@avondalemethodist.org
SUMMARY:Food Pantry Preparation
DESCRIPTION:Food Pantry Preparation
URL:https://avondalemethodist.org/event/food-pantry-preparation/2025-09-30/
LOCATION:Food Pantry Rooms
END:VEVENT
BEGIN:VEVENT
DTSTART;TZID=America/Chicago:20250924T090000
DTEND;TZID=America/Chicago:20250924T230000
DTSTAMP:20260419T222835
CREATED:20250302T005637Z
LAST-MODIFIED:20250302T005637Z
UID:10001340-1758704400-1758754800@avondalemethodist.org
SUMMARY:Food Pantry Distribution
DESCRIPTION:Food Pantry Distribution
URL:https://avondalemethodist.org/event/food-pantry-distribution/2025-09-24/
LOCATION:Food Pantry Rooms
END:VEVENT
BEGIN:VEVENT
DTSTART;TZID=America/Chicago:20250923T090000
DTEND;TZID=America/Chicago:20250923T120000
DTSTAMP:20260419T222835
CREATED:20250302T005517Z
LAST-MODIFIED:20250302T005517Z
UID:10001079-1758618000-1758628800@avondalemethodist.org
SUMMARY:Food Pantry Preparation
DESCRIPTION:Food Pantry Preparation
URL:https://avondalemethodist.org/event/food-pantry-preparation/2025-09-23/
LOCATION:Food Pantry Rooms
END:VEVENT
BEGIN:VEVENT
DTSTART;TZID=America/Chicago:20250917T090000
DTEND;TZID=America/Chicago:20250917T230000
DTSTAMP:20260419T222835
CREATED:20250302T005637Z
LAST-MODIFIED:20250302T005637Z
UID:10001339-1758099600-1758150000@avondalemethodist.org
SUMMARY:Food Pantry Distribution
DESCRIPTION:Food Pantry Distribution
URL:https://avondalemethodist.org/event/food-pantry-distribution/2025-09-17/
LOCATION:Food Pantry Rooms
END:VEVENT
BEGIN:VEVENT
DTSTART;TZID=America/Chicago:20250916T090000
DTEND;TZID=America/Chicago:20250916T120000
DTSTAMP:20260419T222835
CREATED:20250302T005517Z
LAST-MODIFIED:20250302T005517Z
UID:10001078-1758013200-1758024000@avondalemethodist.org
SUMMARY:Food Pantry Preparation
DESCRIPTION:Food Pantry Preparation
URL:https://avondalemethodist.org/event/food-pantry-preparation/2025-09-16/
LOCATION:Food Pantry Rooms
END:VEVENT
BEGIN:VEVENT
DTSTART;TZID=America/Chicago:20250910T090000
DTEND;TZID=America/Chicago:20250910T230000
DTSTAMP:20260419T222835
CREATED:20250302T005637Z
LAST-MODIFIED:20250302T005637Z
UID:10001338-1757494800-1757545200@avondalemethodist.org
SUMMARY:Food Pantry Distribution
DESCRIPTION:Food Pantry Distribution
URL:https://avondalemethodist.org/event/food-pantry-distribution/2025-09-10/
LOCATION:Food Pantry Rooms
END:VEVENT
BEGIN:VEVENT
DTSTART;TZID=America/Chicago:20250909T090000
DTEND;TZID=America/Chicago:20250909T120000
DTSTAMP:20260419T222835
CREATED:20250302T005517Z
LAST-MODIFIED:20250302T005517Z
UID:10001077-1757408400-1757419200@avondalemethodist.org
SUMMARY:Food Pantry Preparation
DESCRIPTION:Food Pantry Preparation
URL:https://avondalemethodist.org/event/food-pantry-preparation/2025-09-09/
LOCATION:Food Pantry Rooms
END:VEVENT
BEGIN:VEVENT
DTSTART;TZID=America/Chicago:20250906T090000
DTEND;TZID=America/Chicago:20250906T230000
DTSTAMP:20260419T222835
CREATED:20250302T005808Z
LAST-MODIFIED:20250302T005808Z
UID:10001578-1757149200-1757199600@avondalemethodist.org
SUMMARY:Food Pantry Distribution - First Saturday
DESCRIPTION:Food Pantry Distribution – First Saturday
URL:https://avondalemethodist.org/event/food-pantry-distribution-first-saturday/2025-09-06/
LOCATION:Food Pantry Rooms
END:VEVENT
BEGIN:VEVENT
DTSTART;TZID=America/Chicago:20250903T090000
DTEND;TZID=America/Chicago:20250903T230000
DTSTAMP:20260419T222835
CREATED:20250302T005637Z
LAST-MODIFIED:20250302T005637Z
UID:10001337-1756890000-1756940400@avondalemethodist.org
SUMMARY:Food Pantry Distribution
DESCRIPTION:Food Pantry Distribution
URL:https://avondalemethodist.org/event/food-pantry-distribution/2025-09-03/
LOCATION:Food Pantry Rooms
END:VEVENT
BEGIN:VEVENT
DTSTART;TZID=America/Chicago:20250902T090000
DTEND;TZID=America/Chicago:20250902T120000
DTSTAMP:20260419T222835
CREATED:20250302T005517Z
LAST-MODIFIED:20250302T005517Z
UID:10001076-1756803600-1756814400@avondalemethodist.org
SUMMARY:Food Pantry Preparation
DESCRIPTION:Food Pantry Preparation
URL:https://avondalemethodist.org/event/food-pantry-preparation/2025-09-02/
LOCATION:Food Pantry Rooms
END:VEVENT
BEGIN:VEVENT
DTSTART;TZID=America/Chicago:20250827T090000
DTEND;TZID=America/Chicago:20250827T230000
DTSTAMP:20260419T222835
CREATED:20250302T005637Z
LAST-MODIFIED:20250302T005637Z
UID:10001336-1756285200-1756335600@avondalemethodist.org
SUMMARY:Food Pantry Distribution
DESCRIPTION:Food Pantry Distribution
URL:https://avondalemethodist.org/event/food-pantry-distribution/2025-08-27/
LOCATION:Food Pantry Rooms
END:VEVENT
BEGIN:VEVENT
DTSTART;TZID=America/Chicago:20250826T090000
DTEND;TZID=America/Chicago:20250826T120000
DTSTAMP:20260419T222835
CREATED:20250302T005517Z
LAST-MODIFIED:20250302T005517Z
UID:10001075-1756198800-1756209600@avondalemethodist.org
SUMMARY:Food Pantry Preparation
DESCRIPTION:Food Pantry Preparation
URL:https://avondalemethodist.org/event/food-pantry-preparation/2025-08-26/
LOCATION:Food Pantry Rooms
END:VEVENT
BEGIN:VEVENT
DTSTART;TZID=America/Chicago:20250820T090000
DTEND;TZID=America/Chicago:20250820T230000
DTSTAMP:20260419T222835
CREATED:20250302T005637Z
LAST-MODIFIED:20250302T005637Z
UID:10001335-1755680400-1755730800@avondalemethodist.org
SUMMARY:Food Pantry Distribution
DESCRIPTION:Food Pantry Distribution
URL:https://avondalemethodist.org/event/food-pantry-distribution/2025-08-20/
LOCATION:Food Pantry Rooms
END:VEVENT
BEGIN:VEVENT
DTSTART;TZID=America/Chicago:20250819T090000
DTEND;TZID=America/Chicago:20250819T120000
DTSTAMP:20260419T222835
CREATED:20250302T005517Z
LAST-MODIFIED:20250302T005517Z
UID:10001074-1755594000-1755604800@avondalemethodist.org
SUMMARY:Food Pantry Preparation
DESCRIPTION:Food Pantry Preparation
URL:https://avondalemethodist.org/event/food-pantry-preparation/2025-08-19/
LOCATION:Food Pantry Rooms
END:VEVENT
BEGIN:VEVENT
DTSTART;TZID=America/Chicago:20250813T090000
DTEND;TZID=America/Chicago:20250813T230000
DTSTAMP:20260419T222835
CREATED:20250302T005637Z
LAST-MODIFIED:20250302T005637Z
UID:10001334-1755075600-1755126000@avondalemethodist.org
SUMMARY:Food Pantry Distribution
DESCRIPTION:Food Pantry Distribution
URL:https://avondalemethodist.org/event/food-pantry-distribution/2025-08-13/
LOCATION:Food Pantry Rooms
END:VEVENT
END:VCALENDAR