BEGIN:VCALENDAR
VERSION:2.0
PRODID:-//Avondale United Methodist Church - ECPv6.15.20//NONSGML v1.0//EN
CALSCALE:GREGORIAN
METHOD:PUBLISH
X-ORIGINAL-URL:https://avondalemethodist.org
X-WR-CALDESC:Events for Avondale United Methodist Church
REFRESH-INTERVAL;VALUE=DURATION:PT1H
X-Robots-Tag:noindex
X-PUBLISHED-TTL:PT1H
BEGIN:VTIMEZONE
TZID:America/Chicago
BEGIN:DAYLIGHT
TZOFFSETFROM:-0600
TZOFFSETTO:-0500
TZNAME:CDT
DTSTART:20240310T080000
END:DAYLIGHT
BEGIN:STANDARD
TZOFFSETFROM:-0500
TZOFFSETTO:-0600
TZNAME:CST
DTSTART:20241103T070000
END:STANDARD
BEGIN:DAYLIGHT
TZOFFSETFROM:-0600
TZOFFSETTO:-0500
TZNAME:CDT
DTSTART:20250309T080000
END:DAYLIGHT
BEGIN:STANDARD
TZOFFSETFROM:-0500
TZOFFSETTO:-0600
TZNAME:CST
DTSTART:20251102T070000
END:STANDARD
BEGIN:DAYLIGHT
TZOFFSETFROM:-0600
TZOFFSETTO:-0500
TZNAME:CDT
DTSTART:20260308T080000
END:DAYLIGHT
BEGIN:STANDARD
TZOFFSETFROM:-0500
TZOFFSETTO:-0600
TZNAME:CST
DTSTART:20261101T070000
END:STANDARD
END:VTIMEZONE
BEGIN:VEVENT
DTSTART;TZID=America/Chicago:20250902T090000
DTEND;TZID=America/Chicago:20250902T120000
DTSTAMP:20260420T022205
CREATED:20250302T005517Z
LAST-MODIFIED:20250302T005517Z
UID:10001076-1756803600-1756814400@avondalemethodist.org
SUMMARY:Food Pantry Preparation
DESCRIPTION:Food Pantry Preparation
URL:https://avondalemethodist.org/event/food-pantry-preparation/2025-09-02/
LOCATION:Food Pantry Rooms
END:VEVENT
BEGIN:VEVENT
DTSTART;TZID=America/Chicago:20250827T090000
DTEND;TZID=America/Chicago:20250827T230000
DTSTAMP:20260420T022205
CREATED:20250302T005637Z
LAST-MODIFIED:20250302T005637Z
UID:10001336-1756285200-1756335600@avondalemethodist.org
SUMMARY:Food Pantry Distribution
DESCRIPTION:Food Pantry Distribution
URL:https://avondalemethodist.org/event/food-pantry-distribution/2025-08-27/
LOCATION:Food Pantry Rooms
END:VEVENT
BEGIN:VEVENT
DTSTART;TZID=America/Chicago:20250826T090000
DTEND;TZID=America/Chicago:20250826T120000
DTSTAMP:20260420T022205
CREATED:20250302T005517Z
LAST-MODIFIED:20250302T005517Z
UID:10001075-1756198800-1756209600@avondalemethodist.org
SUMMARY:Food Pantry Preparation
DESCRIPTION:Food Pantry Preparation
URL:https://avondalemethodist.org/event/food-pantry-preparation/2025-08-26/
LOCATION:Food Pantry Rooms
END:VEVENT
BEGIN:VEVENT
DTSTART;TZID=America/Chicago:20250820T090000
DTEND;TZID=America/Chicago:20250820T230000
DTSTAMP:20260420T022205
CREATED:20250302T005637Z
LAST-MODIFIED:20250302T005637Z
UID:10001335-1755680400-1755730800@avondalemethodist.org
SUMMARY:Food Pantry Distribution
DESCRIPTION:Food Pantry Distribution
URL:https://avondalemethodist.org/event/food-pantry-distribution/2025-08-20/
LOCATION:Food Pantry Rooms
END:VEVENT
BEGIN:VEVENT
DTSTART;TZID=America/Chicago:20250819T090000
DTEND;TZID=America/Chicago:20250819T120000
DTSTAMP:20260420T022205
CREATED:20250302T005517Z
LAST-MODIFIED:20250302T005517Z
UID:10001074-1755594000-1755604800@avondalemethodist.org
SUMMARY:Food Pantry Preparation
DESCRIPTION:Food Pantry Preparation
URL:https://avondalemethodist.org/event/food-pantry-preparation/2025-08-19/
LOCATION:Food Pantry Rooms
END:VEVENT
BEGIN:VEVENT
DTSTART;TZID=America/Chicago:20250813T090000
DTEND;TZID=America/Chicago:20250813T230000
DTSTAMP:20260420T022205
CREATED:20250302T005637Z
LAST-MODIFIED:20250302T005637Z
UID:10001334-1755075600-1755126000@avondalemethodist.org
SUMMARY:Food Pantry Distribution
DESCRIPTION:Food Pantry Distribution
URL:https://avondalemethodist.org/event/food-pantry-distribution/2025-08-13/
LOCATION:Food Pantry Rooms
END:VEVENT
BEGIN:VEVENT
DTSTART;TZID=America/Chicago:20250812T090000
DTEND;TZID=America/Chicago:20250812T120000
DTSTAMP:20260420T022205
CREATED:20250302T005517Z
LAST-MODIFIED:20250302T005517Z
UID:10001073-1754989200-1755000000@avondalemethodist.org
SUMMARY:Food Pantry Preparation
DESCRIPTION:Food Pantry Preparation
URL:https://avondalemethodist.org/event/food-pantry-preparation/2025-08-12/
LOCATION:Food Pantry Rooms
END:VEVENT
BEGIN:VEVENT
DTSTART;TZID=America/Chicago:20250806T090000
DTEND;TZID=America/Chicago:20250806T230000
DTSTAMP:20260420T022205
CREATED:20250302T005637Z
LAST-MODIFIED:20250302T005637Z
UID:10001333-1754470800-1754521200@avondalemethodist.org
SUMMARY:Food Pantry Distribution
DESCRIPTION:Food Pantry Distribution
URL:https://avondalemethodist.org/event/food-pantry-distribution/2025-08-06/
LOCATION:Food Pantry Rooms
END:VEVENT
BEGIN:VEVENT
DTSTART;TZID=America/Chicago:20250805T090000
DTEND;TZID=America/Chicago:20250805T120000
DTSTAMP:20260420T022205
CREATED:20250302T005517Z
LAST-MODIFIED:20250302T005517Z
UID:10001072-1754384400-1754395200@avondalemethodist.org
SUMMARY:Food Pantry Preparation
DESCRIPTION:Food Pantry Preparation
URL:https://avondalemethodist.org/event/food-pantry-preparation/2025-08-05/
LOCATION:Food Pantry Rooms
END:VEVENT
BEGIN:VEVENT
DTSTART;TZID=America/Chicago:20250802T090000
DTEND;TZID=America/Chicago:20250802T230000
DTSTAMP:20260420T022205
CREATED:20250302T005808Z
LAST-MODIFIED:20250302T005808Z
UID:10001577-1754125200-1754175600@avondalemethodist.org
SUMMARY:Food Pantry Distribution - First Saturday
DESCRIPTION:Food Pantry Distribution – First Saturday
URL:https://avondalemethodist.org/event/food-pantry-distribution-first-saturday/2025-08-02/
LOCATION:Food Pantry Rooms
END:VEVENT
BEGIN:VEVENT
DTSTART;TZID=America/Chicago:20250730T090000
DTEND;TZID=America/Chicago:20250730T230000
DTSTAMP:20260420T022205
CREATED:20250302T005637Z
LAST-MODIFIED:20250302T005637Z
UID:10001332-1753866000-1753916400@avondalemethodist.org
SUMMARY:Food Pantry Distribution
DESCRIPTION:Food Pantry Distribution
URL:https://avondalemethodist.org/event/food-pantry-distribution/2025-07-30/
LOCATION:Food Pantry Rooms
END:VEVENT
BEGIN:VEVENT
DTSTART;TZID=America/Chicago:20250729T090000
DTEND;TZID=America/Chicago:20250729T120000
DTSTAMP:20260420T022205
CREATED:20250302T005517Z
LAST-MODIFIED:20250302T005517Z
UID:10001071-1753779600-1753790400@avondalemethodist.org
SUMMARY:Food Pantry Preparation
DESCRIPTION:Food Pantry Preparation
URL:https://avondalemethodist.org/event/food-pantry-preparation/2025-07-29/
LOCATION:Food Pantry Rooms
END:VEVENT
BEGIN:VEVENT
DTSTART;TZID=America/Chicago:20250723T090000
DTEND;TZID=America/Chicago:20250723T230000
DTSTAMP:20260420T022205
CREATED:20250302T005637Z
LAST-MODIFIED:20250302T005637Z
UID:10001331-1753261200-1753311600@avondalemethodist.org
SUMMARY:Food Pantry Distribution
DESCRIPTION:Food Pantry Distribution
URL:https://avondalemethodist.org/event/food-pantry-distribution/2025-07-23/
LOCATION:Food Pantry Rooms
END:VEVENT
BEGIN:VEVENT
DTSTART;TZID=America/Chicago:20250722T090000
DTEND;TZID=America/Chicago:20250722T120000
DTSTAMP:20260420T022205
CREATED:20250302T005517Z
LAST-MODIFIED:20250302T005517Z
UID:10001070-1753174800-1753185600@avondalemethodist.org
SUMMARY:Food Pantry Preparation
DESCRIPTION:Food Pantry Preparation
URL:https://avondalemethodist.org/event/food-pantry-preparation/2025-07-22/
LOCATION:Food Pantry Rooms
END:VEVENT
BEGIN:VEVENT
DTSTART;TZID=America/Chicago:20250716T090000
DTEND;TZID=America/Chicago:20250716T230000
DTSTAMP:20260420T022205
CREATED:20250302T005637Z
LAST-MODIFIED:20250302T005637Z
UID:10001330-1752656400-1752706800@avondalemethodist.org
SUMMARY:Food Pantry Distribution
DESCRIPTION:Food Pantry Distribution
URL:https://avondalemethodist.org/event/food-pantry-distribution/2025-07-16/
LOCATION:Food Pantry Rooms
END:VEVENT
BEGIN:VEVENT
DTSTART;TZID=America/Chicago:20250715T090000
DTEND;TZID=America/Chicago:20250715T120000
DTSTAMP:20260420T022205
CREATED:20250302T005517Z
LAST-MODIFIED:20250302T005517Z
UID:10001069-1752570000-1752580800@avondalemethodist.org
SUMMARY:Food Pantry Preparation
DESCRIPTION:Food Pantry Preparation
URL:https://avondalemethodist.org/event/food-pantry-preparation/2025-07-15/
LOCATION:Food Pantry Rooms
END:VEVENT
BEGIN:VEVENT
DTSTART;TZID=America/Chicago:20250709T090000
DTEND;TZID=America/Chicago:20250709T230000
DTSTAMP:20260420T022205
CREATED:20250302T005637Z
LAST-MODIFIED:20250302T005637Z
UID:10001329-1752051600-1752102000@avondalemethodist.org
SUMMARY:Food Pantry Distribution
DESCRIPTION:Food Pantry Distribution
URL:https://avondalemethodist.org/event/food-pantry-distribution/2025-07-09/
LOCATION:Food Pantry Rooms
END:VEVENT
BEGIN:VEVENT
DTSTART;TZID=America/Chicago:20250708T090000
DTEND;TZID=America/Chicago:20250708T120000
DTSTAMP:20260420T022205
CREATED:20250302T005517Z
LAST-MODIFIED:20250302T005517Z
UID:10001068-1751965200-1751976000@avondalemethodist.org
SUMMARY:Food Pantry Preparation
DESCRIPTION:Food Pantry Preparation
URL:https://avondalemethodist.org/event/food-pantry-preparation/2025-07-08/
LOCATION:Food Pantry Rooms
END:VEVENT
BEGIN:VEVENT
DTSTART;TZID=America/Chicago:20250705T090000
DTEND;TZID=America/Chicago:20250705T230000
DTSTAMP:20260420T022205
CREATED:20250302T005808Z
LAST-MODIFIED:20250302T005808Z
UID:10001576-1751706000-1751756400@avondalemethodist.org
SUMMARY:Food Pantry Distribution - First Saturday
DESCRIPTION:Food Pantry Distribution – First Saturday
URL:https://avondalemethodist.org/event/food-pantry-distribution-first-saturday/2025-07-05/
LOCATION:Food Pantry Rooms
END:VEVENT
BEGIN:VEVENT
DTSTART;TZID=America/Chicago:20250702T090000
DTEND;TZID=America/Chicago:20250702T230000
DTSTAMP:20260420T022205
CREATED:20250302T005637Z
LAST-MODIFIED:20250302T005637Z
UID:10001328-1751446800-1751497200@avondalemethodist.org
SUMMARY:Food Pantry Distribution
DESCRIPTION:Food Pantry Distribution
URL:https://avondalemethodist.org/event/food-pantry-distribution/2025-07-02/
LOCATION:Food Pantry Rooms
END:VEVENT
BEGIN:VEVENT
DTSTART;TZID=America/Chicago:20250701T090000
DTEND;TZID=America/Chicago:20250701T120000
DTSTAMP:20260420T022205
CREATED:20250302T005517Z
LAST-MODIFIED:20250302T005517Z
UID:10001067-1751360400-1751371200@avondalemethodist.org
SUMMARY:Food Pantry Preparation
DESCRIPTION:Food Pantry Preparation
URL:https://avondalemethodist.org/event/food-pantry-preparation/2025-07-01/
LOCATION:Food Pantry Rooms
END:VEVENT
BEGIN:VEVENT
DTSTART;TZID=America/Chicago:20250625T090000
DTEND;TZID=America/Chicago:20250625T230000
DTSTAMP:20260420T022205
CREATED:20250302T005637Z
LAST-MODIFIED:20250302T005637Z
UID:10001327-1750842000-1750892400@avondalemethodist.org
SUMMARY:Food Pantry Distribution
DESCRIPTION:Food Pantry Distribution
URL:https://avondalemethodist.org/event/food-pantry-distribution/2025-06-25/
LOCATION:Food Pantry Rooms
END:VEVENT
BEGIN:VEVENT
DTSTART;TZID=America/Chicago:20250624T090000
DTEND;TZID=America/Chicago:20250624T120000
DTSTAMP:20260420T022205
CREATED:20250302T005517Z
LAST-MODIFIED:20250302T005517Z
UID:10001066-1750755600-1750766400@avondalemethodist.org
SUMMARY:Food Pantry Preparation
DESCRIPTION:Food Pantry Preparation
URL:https://avondalemethodist.org/event/food-pantry-preparation/2025-06-24/
LOCATION:Food Pantry Rooms
END:VEVENT
BEGIN:VEVENT
DTSTART;TZID=America/Chicago:20250618T090000
DTEND;TZID=America/Chicago:20250618T230000
DTSTAMP:20260420T022205
CREATED:20250302T005637Z
LAST-MODIFIED:20250302T005637Z
UID:10001326-1750237200-1750287600@avondalemethodist.org
SUMMARY:Food Pantry Distribution
DESCRIPTION:Food Pantry Distribution
URL:https://avondalemethodist.org/event/food-pantry-distribution/2025-06-18/
LOCATION:Food Pantry Rooms
END:VEVENT
BEGIN:VEVENT
DTSTART;TZID=America/Chicago:20250617T090000
DTEND;TZID=America/Chicago:20250617T120000
DTSTAMP:20260420T022205
CREATED:20250302T005517Z
LAST-MODIFIED:20250302T005517Z
UID:10001065-1750150800-1750161600@avondalemethodist.org
SUMMARY:Food Pantry Preparation
DESCRIPTION:Food Pantry Preparation
URL:https://avondalemethodist.org/event/food-pantry-preparation/2025-06-17/
LOCATION:Food Pantry Rooms
END:VEVENT
BEGIN:VEVENT
DTSTART;TZID=America/Chicago:20250611T090000
DTEND;TZID=America/Chicago:20250611T230000
DTSTAMP:20260420T022205
CREATED:20250302T005637Z
LAST-MODIFIED:20250302T005637Z
UID:10001325-1749632400-1749682800@avondalemethodist.org
SUMMARY:Food Pantry Distribution
DESCRIPTION:Food Pantry Distribution
URL:https://avondalemethodist.org/event/food-pantry-distribution/2025-06-11/
LOCATION:Food Pantry Rooms
END:VEVENT
BEGIN:VEVENT
DTSTART;TZID=America/Chicago:20250610T090000
DTEND;TZID=America/Chicago:20250610T120000
DTSTAMP:20260420T022205
CREATED:20250302T005517Z
LAST-MODIFIED:20250302T005517Z
UID:10001064-1749546000-1749556800@avondalemethodist.org
SUMMARY:Food Pantry Preparation
DESCRIPTION:Food Pantry Preparation
URL:https://avondalemethodist.org/event/food-pantry-preparation/2025-06-10/
LOCATION:Food Pantry Rooms
END:VEVENT
BEGIN:VEVENT
DTSTART;TZID=America/Chicago:20250607T090000
DTEND;TZID=America/Chicago:20250607T230000
DTSTAMP:20260420T022205
CREATED:20250302T005808Z
LAST-MODIFIED:20250302T005808Z
UID:10001575-1749286800-1749337200@avondalemethodist.org
SUMMARY:Food Pantry Distribution - First Saturday
DESCRIPTION:Food Pantry Distribution – First Saturday
URL:https://avondalemethodist.org/event/food-pantry-distribution-first-saturday/2025-06-07/
LOCATION:Food Pantry Rooms
END:VEVENT
BEGIN:VEVENT
DTSTART;TZID=America/Chicago:20250604T090000
DTEND;TZID=America/Chicago:20250604T230000
DTSTAMP:20260420T022205
CREATED:20250302T005637Z
LAST-MODIFIED:20250302T005637Z
UID:10001324-1749027600-1749078000@avondalemethodist.org
SUMMARY:Food Pantry Distribution
DESCRIPTION:Food Pantry Distribution
URL:https://avondalemethodist.org/event/food-pantry-distribution/2025-06-04/
LOCATION:Food Pantry Rooms
END:VEVENT
BEGIN:VEVENT
DTSTART;TZID=America/Chicago:20250603T090000
DTEND;TZID=America/Chicago:20250603T120000
DTSTAMP:20260420T022205
CREATED:20250302T005517Z
LAST-MODIFIED:20250302T005517Z
UID:10001063-1748941200-1748952000@avondalemethodist.org
SUMMARY:Food Pantry Preparation
DESCRIPTION:Food Pantry Preparation
URL:https://avondalemethodist.org/event/food-pantry-preparation/2025-06-03/
LOCATION:Food Pantry Rooms
END:VEVENT
END:VCALENDAR