BEGIN:VCALENDAR
VERSION:2.0
PRODID:-//Avondale United Methodist Church - ECPv6.15.20//NONSGML v1.0//EN
CALSCALE:GREGORIAN
METHOD:PUBLISH
X-WR-CALNAME:Avondale United Methodist Church
X-ORIGINAL-URL:https://avondalemethodist.org
X-WR-CALDESC:Events for Avondale United Methodist Church
REFRESH-INTERVAL;VALUE=DURATION:PT1H
X-Robots-Tag:noindex
X-PUBLISHED-TTL:PT1H
BEGIN:VTIMEZONE
TZID:America/Chicago
BEGIN:DAYLIGHT
TZOFFSETFROM:-0600
TZOFFSETTO:-0500
TZNAME:CDT
DTSTART:20240310T080000
END:DAYLIGHT
BEGIN:STANDARD
TZOFFSETFROM:-0500
TZOFFSETTO:-0600
TZNAME:CST
DTSTART:20241103T070000
END:STANDARD
BEGIN:DAYLIGHT
TZOFFSETFROM:-0600
TZOFFSETTO:-0500
TZNAME:CDT
DTSTART:20250309T080000
END:DAYLIGHT
BEGIN:STANDARD
TZOFFSETFROM:-0500
TZOFFSETTO:-0600
TZNAME:CST
DTSTART:20251102T070000
END:STANDARD
BEGIN:DAYLIGHT
TZOFFSETFROM:-0600
TZOFFSETTO:-0500
TZNAME:CDT
DTSTART:20260308T080000
END:DAYLIGHT
BEGIN:STANDARD
TZOFFSETFROM:-0500
TZOFFSETTO:-0600
TZNAME:CST
DTSTART:20261101T070000
END:STANDARD
END:VTIMEZONE
BEGIN:VEVENT
DTSTART;TZID=America/Chicago:20250617T090000
DTEND;TZID=America/Chicago:20250617T120000
DTSTAMP:20260420T061033
CREATED:20250302T005517Z
LAST-MODIFIED:20250302T005517Z
UID:10001065-1750150800-1750161600@avondalemethodist.org
SUMMARY:Food Pantry Preparation
DESCRIPTION:Food Pantry Preparation
URL:https://avondalemethodist.org/event/food-pantry-preparation/2025-06-17/
LOCATION:Food Pantry Rooms
END:VEVENT
BEGIN:VEVENT
DTSTART;TZID=America/Chicago:20250611T090000
DTEND;TZID=America/Chicago:20250611T230000
DTSTAMP:20260420T061033
CREATED:20250302T005637Z
LAST-MODIFIED:20250302T005637Z
UID:10001325-1749632400-1749682800@avondalemethodist.org
SUMMARY:Food Pantry Distribution
DESCRIPTION:Food Pantry Distribution
URL:https://avondalemethodist.org/event/food-pantry-distribution/2025-06-11/
LOCATION:Food Pantry Rooms
END:VEVENT
BEGIN:VEVENT
DTSTART;TZID=America/Chicago:20250610T090000
DTEND;TZID=America/Chicago:20250610T120000
DTSTAMP:20260420T061033
CREATED:20250302T005517Z
LAST-MODIFIED:20250302T005517Z
UID:10001064-1749546000-1749556800@avondalemethodist.org
SUMMARY:Food Pantry Preparation
DESCRIPTION:Food Pantry Preparation
URL:https://avondalemethodist.org/event/food-pantry-preparation/2025-06-10/
LOCATION:Food Pantry Rooms
END:VEVENT
BEGIN:VEVENT
DTSTART;TZID=America/Chicago:20250607T090000
DTEND;TZID=America/Chicago:20250607T230000
DTSTAMP:20260420T061033
CREATED:20250302T005808Z
LAST-MODIFIED:20250302T005808Z
UID:10001575-1749286800-1749337200@avondalemethodist.org
SUMMARY:Food Pantry Distribution - First Saturday
DESCRIPTION:Food Pantry Distribution – First Saturday
URL:https://avondalemethodist.org/event/food-pantry-distribution-first-saturday/2025-06-07/
LOCATION:Food Pantry Rooms
END:VEVENT
BEGIN:VEVENT
DTSTART;TZID=America/Chicago:20250604T090000
DTEND;TZID=America/Chicago:20250604T230000
DTSTAMP:20260420T061033
CREATED:20250302T005637Z
LAST-MODIFIED:20250302T005637Z
UID:10001324-1749027600-1749078000@avondalemethodist.org
SUMMARY:Food Pantry Distribution
DESCRIPTION:Food Pantry Distribution
URL:https://avondalemethodist.org/event/food-pantry-distribution/2025-06-04/
LOCATION:Food Pantry Rooms
END:VEVENT
BEGIN:VEVENT
DTSTART;TZID=America/Chicago:20250603T090000
DTEND;TZID=America/Chicago:20250603T120000
DTSTAMP:20260420T061033
CREATED:20250302T005517Z
LAST-MODIFIED:20250302T005517Z
UID:10001063-1748941200-1748952000@avondalemethodist.org
SUMMARY:Food Pantry Preparation
DESCRIPTION:Food Pantry Preparation
URL:https://avondalemethodist.org/event/food-pantry-preparation/2025-06-03/
LOCATION:Food Pantry Rooms
END:VEVENT
BEGIN:VEVENT
DTSTART;TZID=America/Chicago:20250528T090000
DTEND;TZID=America/Chicago:20250528T230000
DTSTAMP:20260420T061033
CREATED:20250302T005637Z
LAST-MODIFIED:20250302T005637Z
UID:10001323-1748422800-1748473200@avondalemethodist.org
SUMMARY:Food Pantry Distribution
DESCRIPTION:Food Pantry Distribution
URL:https://avondalemethodist.org/event/food-pantry-distribution/2025-05-28/
LOCATION:Food Pantry Rooms
END:VEVENT
BEGIN:VEVENT
DTSTART;TZID=America/Chicago:20250527T090000
DTEND;TZID=America/Chicago:20250527T120000
DTSTAMP:20260420T061033
CREATED:20250302T005517Z
LAST-MODIFIED:20250302T005517Z
UID:10001062-1748336400-1748347200@avondalemethodist.org
SUMMARY:Food Pantry Preparation
DESCRIPTION:Food Pantry Preparation
URL:https://avondalemethodist.org/event/food-pantry-preparation/2025-05-27/
LOCATION:Food Pantry Rooms
END:VEVENT
BEGIN:VEVENT
DTSTART;TZID=America/Chicago:20250521T090000
DTEND;TZID=America/Chicago:20250521T230000
DTSTAMP:20260420T061033
CREATED:20250302T005637Z
LAST-MODIFIED:20250302T005637Z
UID:10001322-1747818000-1747868400@avondalemethodist.org
SUMMARY:Food Pantry Distribution
DESCRIPTION:Food Pantry Distribution
URL:https://avondalemethodist.org/event/food-pantry-distribution/2025-05-21/
LOCATION:Food Pantry Rooms
END:VEVENT
BEGIN:VEVENT
DTSTART;TZID=America/Chicago:20250520T090000
DTEND;TZID=America/Chicago:20250520T120000
DTSTAMP:20260420T061033
CREATED:20250302T005517Z
LAST-MODIFIED:20250302T005517Z
UID:10001061-1747731600-1747742400@avondalemethodist.org
SUMMARY:Food Pantry Preparation
DESCRIPTION:Food Pantry Preparation
URL:https://avondalemethodist.org/event/food-pantry-preparation/2025-05-20/
LOCATION:Food Pantry Rooms
END:VEVENT
BEGIN:VEVENT
DTSTART;TZID=America/Chicago:20250514T090000
DTEND;TZID=America/Chicago:20250514T230000
DTSTAMP:20260420T061033
CREATED:20250302T005637Z
LAST-MODIFIED:20250302T005637Z
UID:10001321-1747213200-1747263600@avondalemethodist.org
SUMMARY:Food Pantry Distribution
DESCRIPTION:Food Pantry Distribution
URL:https://avondalemethodist.org/event/food-pantry-distribution/2025-05-14/
LOCATION:Food Pantry Rooms
END:VEVENT
BEGIN:VEVENT
DTSTART;TZID=America/Chicago:20250513T090000
DTEND;TZID=America/Chicago:20250513T120000
DTSTAMP:20260420T061033
CREATED:20250302T005517Z
LAST-MODIFIED:20250302T005517Z
UID:10001060-1747126800-1747137600@avondalemethodist.org
SUMMARY:Food Pantry Preparation
DESCRIPTION:Food Pantry Preparation
URL:https://avondalemethodist.org/event/food-pantry-preparation/2025-05-13/
LOCATION:Food Pantry Rooms
END:VEVENT
BEGIN:VEVENT
DTSTART;TZID=America/Chicago:20250507T090000
DTEND;TZID=America/Chicago:20250507T230000
DTSTAMP:20260420T061033
CREATED:20250302T005637Z
LAST-MODIFIED:20250302T005637Z
UID:10001320-1746608400-1746658800@avondalemethodist.org
SUMMARY:Food Pantry Distribution
DESCRIPTION:Food Pantry Distribution
URL:https://avondalemethodist.org/event/food-pantry-distribution/2025-05-07/
LOCATION:Food Pantry Rooms
END:VEVENT
BEGIN:VEVENT
DTSTART;TZID=America/Chicago:20250506T090000
DTEND;TZID=America/Chicago:20250506T120000
DTSTAMP:20260420T061033
CREATED:20250302T005517Z
LAST-MODIFIED:20250302T005517Z
UID:10001059-1746522000-1746532800@avondalemethodist.org
SUMMARY:Food Pantry Preparation
DESCRIPTION:Food Pantry Preparation
URL:https://avondalemethodist.org/event/food-pantry-preparation/2025-05-06/
LOCATION:Food Pantry Rooms
END:VEVENT
BEGIN:VEVENT
DTSTART;TZID=America/Chicago:20250503T090000
DTEND;TZID=America/Chicago:20250503T230000
DTSTAMP:20260420T061033
CREATED:20250302T005808Z
LAST-MODIFIED:20250302T005808Z
UID:10001574-1746262800-1746313200@avondalemethodist.org
SUMMARY:Food Pantry Distribution - First Saturday
DESCRIPTION:Food Pantry Distribution – First Saturday
URL:https://avondalemethodist.org/event/food-pantry-distribution-first-saturday/2025-05-03/
LOCATION:Food Pantry Rooms
END:VEVENT
BEGIN:VEVENT
DTSTART;TZID=America/Chicago:20250430T090000
DTEND;TZID=America/Chicago:20250430T230000
DTSTAMP:20260420T061033
CREATED:20250302T005637Z
LAST-MODIFIED:20250302T005637Z
UID:10001319-1746003600-1746054000@avondalemethodist.org
SUMMARY:Food Pantry Distribution
DESCRIPTION:Food Pantry Distribution
URL:https://avondalemethodist.org/event/food-pantry-distribution/2025-04-30/
LOCATION:Food Pantry Rooms
END:VEVENT
BEGIN:VEVENT
DTSTART;TZID=America/Chicago:20250429T090000
DTEND;TZID=America/Chicago:20250429T120000
DTSTAMP:20260420T061033
CREATED:20250302T005517Z
LAST-MODIFIED:20250302T005517Z
UID:10001058-1745917200-1745928000@avondalemethodist.org
SUMMARY:Food Pantry Preparation
DESCRIPTION:Food Pantry Preparation
URL:https://avondalemethodist.org/event/food-pantry-preparation/2025-04-29/
LOCATION:Food Pantry Rooms
END:VEVENT
BEGIN:VEVENT
DTSTART;TZID=America/Chicago:20250423T090000
DTEND;TZID=America/Chicago:20250423T230000
DTSTAMP:20260420T061033
CREATED:20250302T005637Z
LAST-MODIFIED:20250302T005637Z
UID:10001318-1745398800-1745449200@avondalemethodist.org
SUMMARY:Food Pantry Distribution
DESCRIPTION:Food Pantry Distribution
URL:https://avondalemethodist.org/event/food-pantry-distribution/2025-04-23/
LOCATION:Food Pantry Rooms
END:VEVENT
BEGIN:VEVENT
DTSTART;TZID=America/Chicago:20250422T090000
DTEND;TZID=America/Chicago:20250422T120000
DTSTAMP:20260420T061033
CREATED:20250302T005517Z
LAST-MODIFIED:20250302T005517Z
UID:10001057-1745312400-1745323200@avondalemethodist.org
SUMMARY:Food Pantry Preparation
DESCRIPTION:Food Pantry Preparation
URL:https://avondalemethodist.org/event/food-pantry-preparation/2025-04-22/
LOCATION:Food Pantry Rooms
END:VEVENT
BEGIN:VEVENT
DTSTART;TZID=America/Chicago:20250416T090000
DTEND;TZID=America/Chicago:20250416T230000
DTSTAMP:20260420T061033
CREATED:20250302T005637Z
LAST-MODIFIED:20250302T005637Z
UID:10001317-1744794000-1744844400@avondalemethodist.org
SUMMARY:Food Pantry Distribution
DESCRIPTION:Food Pantry Distribution
URL:https://avondalemethodist.org/event/food-pantry-distribution/2025-04-16/
LOCATION:Food Pantry Rooms
END:VEVENT
BEGIN:VEVENT
DTSTART;TZID=America/Chicago:20250415T090000
DTEND;TZID=America/Chicago:20250415T120000
DTSTAMP:20260420T061033
CREATED:20250302T005517Z
LAST-MODIFIED:20250302T005517Z
UID:10001056-1744707600-1744718400@avondalemethodist.org
SUMMARY:Food Pantry Preparation
DESCRIPTION:Food Pantry Preparation
URL:https://avondalemethodist.org/event/food-pantry-preparation/2025-04-15/
LOCATION:Food Pantry Rooms
END:VEVENT
BEGIN:VEVENT
DTSTART;TZID=America/Chicago:20250409T090000
DTEND;TZID=America/Chicago:20250409T230000
DTSTAMP:20260420T061033
CREATED:20250302T005637Z
LAST-MODIFIED:20250302T005637Z
UID:10001316-1744189200-1744239600@avondalemethodist.org
SUMMARY:Food Pantry Distribution
DESCRIPTION:Food Pantry Distribution
URL:https://avondalemethodist.org/event/food-pantry-distribution/2025-04-09/
LOCATION:Food Pantry Rooms
END:VEVENT
BEGIN:VEVENT
DTSTART;VALUE=DATE:20250408
DTEND;VALUE=DATE:20250409
DTSTAMP:20260420T061033
CREATED:20250331T205045Z
LAST-MODIFIED:20250331T205045Z
UID:11001782-1744070400-1744156799@avondalemethodist.org
SUMMARY:Election Day
DESCRIPTION:General Elections in Contemporary Life
URL:https://avondalemethodist.org/event/election-day/
LOCATION:Contemporary Life\, 3101 NE Winn Rd\, Kansas City\, MO\, 64117\, United States
END:VEVENT
BEGIN:VEVENT
DTSTART;TZID=America/Chicago:20250405T090000
DTEND;TZID=America/Chicago:20250405T230000
DTSTAMP:20260420T061033
CREATED:20250302T005808Z
LAST-MODIFIED:20250302T005808Z
UID:10001573-1743843600-1743894000@avondalemethodist.org
SUMMARY:Food Pantry Distribution - First Saturday
DESCRIPTION:Food Pantry Distribution – First Saturday
URL:https://avondalemethodist.org/event/food-pantry-distribution-first-saturday/2025-04-05/
LOCATION:Food Pantry Rooms
END:VEVENT
BEGIN:VEVENT
DTSTART;TZID=America/Chicago:20250402T090000
DTEND;TZID=America/Chicago:20250402T230000
DTSTAMP:20260420T061033
CREATED:20250302T005637Z
LAST-MODIFIED:20250302T005637Z
UID:10001315-1743584400-1743634800@avondalemethodist.org
SUMMARY:Food Pantry Distribution
DESCRIPTION:Food Pantry Distribution
URL:https://avondalemethodist.org/event/food-pantry-distribution/2025-04-02/
LOCATION:Food Pantry Rooms
END:VEVENT
BEGIN:VEVENT
DTSTART;TZID=America/Chicago:20250401T090000
DTEND;TZID=America/Chicago:20250401T120000
DTSTAMP:20260420T061033
CREATED:20250302T005517Z
LAST-MODIFIED:20250302T005517Z
UID:10001054-1743498000-1743508800@avondalemethodist.org
SUMMARY:Food Pantry Preparation
DESCRIPTION:Food Pantry Preparation
URL:https://avondalemethodist.org/event/food-pantry-preparation/2025-04-01/
LOCATION:Food Pantry Rooms
END:VEVENT
BEGIN:VEVENT
DTSTART;TZID=America/Chicago:20250326T090000
DTEND;TZID=America/Chicago:20250326T230000
DTSTAMP:20260420T061033
CREATED:20250302T005637Z
LAST-MODIFIED:20250302T005637Z
UID:10001314-1742979600-1743030000@avondalemethodist.org
SUMMARY:Food Pantry Distribution
DESCRIPTION:Food Pantry Distribution
URL:https://avondalemethodist.org/event/food-pantry-distribution/2025-03-26/
LOCATION:Food Pantry Rooms
END:VEVENT
BEGIN:VEVENT
DTSTART;TZID=America/Chicago:20250325T090000
DTEND;TZID=America/Chicago:20250325T120000
DTSTAMP:20260420T061033
CREATED:20250302T005517Z
LAST-MODIFIED:20250302T005517Z
UID:10001053-1742893200-1742904000@avondalemethodist.org
SUMMARY:Food Pantry Preparation
DESCRIPTION:Food Pantry Preparation
URL:https://avondalemethodist.org/event/food-pantry-preparation/2025-03-25/
LOCATION:Food Pantry Rooms
END:VEVENT
BEGIN:VEVENT
DTSTART;TZID=America/Chicago:20250319T090000
DTEND;TZID=America/Chicago:20250319T230000
DTSTAMP:20260420T061033
CREATED:20250302T005637Z
LAST-MODIFIED:20250302T005637Z
UID:10001313-1742374800-1742425200@avondalemethodist.org
SUMMARY:Food Pantry Distribution
DESCRIPTION:Food Pantry Distribution
URL:https://avondalemethodist.org/event/food-pantry-distribution/2025-03-19/
LOCATION:Food Pantry Rooms
END:VEVENT
BEGIN:VEVENT
DTSTART;TZID=America/Chicago:20250318T090000
DTEND;TZID=America/Chicago:20250318T120000
DTSTAMP:20260420T061033
CREATED:20250302T005517Z
LAST-MODIFIED:20250302T005517Z
UID:10001052-1742288400-1742299200@avondalemethodist.org
SUMMARY:Food Pantry Preparation
DESCRIPTION:Food Pantry Preparation
URL:https://avondalemethodist.org/event/food-pantry-preparation/2025-03-18/
LOCATION:Food Pantry Rooms
END:VEVENT
END:VCALENDAR